BEGIN:VCALENDAR
VERSION:2.0
PRODID:-//wp-events-plugin.com//7.2.3.1//EN
BEGIN:VEVENT
UID:84@thomaslaffont.fr
DTSTART;TZID=Europe/Paris:20201017T193000
DTEND;TZID=Europe/Paris:20201017T230000
DTSTAMP:20200924T082923Z
URL:https://thomaslaffont.fr/events/zikahi-5/
SUMMARY:Zikahi
DESCRIPTION:J'aurai le plaisir d'accompagner Zikahi sur sa tournée d'autom
 ne de "Scènes de Bistrots"\, organisée par Arsud et Bistrot de Pays.\nTo
 utes les informations sur la tournée sont disponibles ici.\n&nbsp\;\nDîn
 er à 19h30 - Spectacle à 21h\nPensez à réserver dans chaque Bistrot de
  Pays\, les places sont limitées !\nhttps://www.youtube.com/watch?v=Njb_o
 RMNyww
LOCATION:Bistrot de Pays Les Lavandins\, place Delphine de Signe\, Puimiche
 l\, France
X-APPLE-STRUCTURED-LOCATION;VALUE=URI;X-ADDRESS=place Delphine de Signe\, P
 uimichel\, France;X-APPLE-RADIUS=100;X-TITLE=Bistrot de Pays Les Lavandins
 :geo:0,0
END:VEVENT
BEGIN:VTIMEZONE
TZID:Europe/Paris
X-LIC-LOCATION:Europe/Paris
BEGIN:DAYLIGHT
DTSTART:20200329T030000
TZOFFSETFROM:+0100
TZOFFSETTO:+0200
TZNAME:CEST
END:DAYLIGHT
END:VTIMEZONE
END:VCALENDAR