BEGIN:VCALENDAR
VERSION:2.0
PRODID:-//wp-events-plugin.com//7.2.3.1//EN
BEGIN:VEVENT
UID:108@thomaslaffont.fr
DTSTART;TZID=Europe/Paris:20220810T210000
DTEND;TZID=Europe/Paris:20220810T223000
DTSTAMP:20220531T132234Z
URL:https://thomaslaffont.fr/events/zikahi-12/
SUMMARY:Zikahi
DESCRIPTION:J'aurai le plaisir d'accompagner Zikahi sur sa tournée d'été
  2022.\nUne superbe artiste à découvrir !\n&nbsp\;\n\n\n[embed]https://w
 ww.youtube.com/watch?v=W8YDKDeVUN4[/embed]\n\n
LOCATION:Théâtre de Verdure de Mollans-sur-Ouvèze\, Théâtre de Verdure
 \, Mollans-sur-Ouvèze\, 26170\, France
X-APPLE-STRUCTURED-LOCATION;VALUE=URI;X-ADDRESS=Théâtre de Verdure\, Moll
 ans-sur-Ouvèze\, 26170\, France;X-APPLE-RADIUS=100;X-TITLE=Théâtre de V
 erdure de Mollans-sur-Ouvèze:geo:0,0
END:VEVENT
BEGIN:VTIMEZONE
TZID:Europe/Paris
X-LIC-LOCATION:Europe/Paris
BEGIN:DAYLIGHT
DTSTART:20220327T030000
TZOFFSETFROM:+0100
TZOFFSETTO:+0200
TZNAME:CEST
END:DAYLIGHT
END:VTIMEZONE
END:VCALENDAR