BEGIN:VCALENDAR
VERSION:2.0
PRODID:-//wp-events-plugin.com//7.2.3.1//EN
BEGIN:VEVENT
UID:106@thomaslaffont.fr
DTSTART;TZID=Europe/Paris:20220708T210000
DTEND;TZID=Europe/Paris:20220708T223000
DTSTAMP:20220531T131646Z
URL:https://thomaslaffont.fr/events/zikahi-10/
SUMMARY:Zikahi
DESCRIPTION:J'aurai le plaisir d'accompagner Zikahi sur sa tournée d'été
  2022.\nUne superbe artiste à découvrir !\n&nbsp\;\n\n\n[embed]https://w
 ww.youtube.com/watch?v=W8YDKDeVUN4[/embed]\n\n
LOCATION:La Chapelle de Villedieu\, Villedieu\, Villedieu\, 84110\, France
X-APPLE-STRUCTURED-LOCATION;VALUE=URI;X-ADDRESS=Villedieu\, Villedieu\, 841
 10\, France;X-APPLE-RADIUS=100;X-TITLE=La Chapelle de Villedieu:geo:0,0
END:VEVENT
BEGIN:VTIMEZONE
TZID:Europe/Paris
X-LIC-LOCATION:Europe/Paris
BEGIN:DAYLIGHT
DTSTART:20220327T030000
TZOFFSETFROM:+0100
TZOFFSETTO:+0200
TZNAME:CEST
END:DAYLIGHT
END:VTIMEZONE
END:VCALENDAR