BEGIN:VCALENDAR
VERSION:2.0
PRODID:-//wp-events-plugin.com//7.2.3.1//EN
BEGIN:VEVENT
UID:13@thomaslaffont.fr
DTSTART;TZID=Europe/Paris:20150801T200000
DTEND;TZID=Europe/Paris:20150801T223000
DTSTAMP:20150729T110813Z
URL:https://thomaslaffont.fr/events/un-diner-face-a-la-bonne-mere-en-musiq
 ue-avec-deste/
SUMMARY:Un diner face à la Bonne Mère en musique avec Deste
DESCRIPTION:DESTE en concert au restaurant le Relais 50 à Marseille !
LOCATION:Restaurant le Relais 50\, 20 quai du port\, Marseille\, 13002\, Fr
 ance
GEO:43.296375;5.372708800000055
X-APPLE-STRUCTURED-LOCATION;VALUE=URI;X-ADDRESS=20 quai du port\, Marseille
 \, 13002\, France;X-APPLE-RADIUS=100;X-TITLE=Restaurant le Relais 50:geo:4
 3.296375,5.372708800000055
END:VEVENT
BEGIN:VTIMEZONE
TZID:Europe/Paris
X-LIC-LOCATION:Europe/Paris
BEGIN:DAYLIGHT
DTSTART:20150329T030000
TZOFFSETFROM:+0100
TZOFFSETTO:+0200
TZNAME:CEST
END:DAYLIGHT
END:VTIMEZONE
END:VCALENDAR