BEGIN:VCALENDAR
VERSION:2.0
PRODID:-//wp-events-plugin.com//7.2.3.1//EN
BEGIN:VEVENT
UID:93@thomaslaffont.fr
DTSTART;TZID=Europe/Paris:20220312T143000
DTEND;TZID=Europe/Paris:20220427T210000
DTSTAMP:20220308T111129Z
URL:https://thomaslaffont.fr/events/tournee-avec-lecocirque-andre-joseph-b
 ouglione/
SUMMARY:L'écocirque André-Joseph Bouglione à Lyon
DESCRIPTION:Cette année\, j'aurais la chance et le plaisir d'être en tour
 née nationale avec l'écocirque André-Joseph Bouglione.\n\nNotre prochai
 ne étape sera à Lyon du 12 mars au 27 avril 2022.\nToutes les dates du s
 pectacle sont à retrouver sur le site de l'écocirque.\n\nhttps://www.you
 tube.com/watch?v=r-P8yAT3Phg\n\n&nbsp\;
LOCATION:Lyon confluence\, 29 Rue Paul Montrochet\, Lyon\, 69002\, France
X-APPLE-STRUCTURED-LOCATION;VALUE=URI;X-ADDRESS=29 Rue Paul Montrochet\, Ly
 on\, 69002\, France;X-APPLE-RADIUS=100;X-TITLE=Lyon confluence:geo:0,0
END:VEVENT
BEGIN:VTIMEZONE
TZID:Europe/Paris
X-LIC-LOCATION:Europe/Paris
BEGIN:STANDARD
DTSTART:20211031T020000
TZOFFSETFROM:+0200
TZOFFSETTO:+0100
TZNAME:CET
END:STANDARD
BEGIN:DAYLIGHT
DTSTART:20220327T030000
TZOFFSETFROM:+0100
TZOFFSETTO:+0200
TZNAME:CEST
END:DAYLIGHT
END:VTIMEZONE
END:VCALENDAR