BEGIN:VCALENDAR
VERSION:2.0
PRODID:-//wp-events-plugin.com//7.2.3.1//EN
BEGIN:VEVENT
UID:19@thomaslaffont.fr
DTSTART;TZID=Europe/Paris:20160421T213000
DTEND;TZID=Europe/Paris:20160421T230000
DTSTAMP:20160330T072216Z
URL:https://thomaslaffont.fr/events/tina-mweni-namaste/
SUMMARY:Tina Mweni & Namaste
DESCRIPTION:Concert pour le festival "Regards Croisés" à Bruxelles\, Belg
 ique.\n\nFestival Regards Croisés\n\nhttps://www.youtube.com/watch?v=E9mB
 iI8uPM8
LOCATION:Théâtre Marni\,  25 rue de Vergnies\, Bruxelles\, 1050\, Belgiqu
 e
GEO:50.8289144;4.371454399999948
X-APPLE-STRUCTURED-LOCATION;VALUE=URI;X-ADDRESS= 25 rue de Vergnies\, Bruxe
 lles\, 1050\, Belgique;X-APPLE-RADIUS=100;X-TITLE=Théâtre Marni:geo:50.8
 289144,4.371454399999948
END:VEVENT
BEGIN:VTIMEZONE
TZID:Europe/Paris
X-LIC-LOCATION:Europe/Paris
BEGIN:DAYLIGHT
DTSTART:20160327T030000
TZOFFSETFROM:+0100
TZOFFSETTO:+0200
TZNAME:CEST
END:DAYLIGHT
END:VTIMEZONE
END:VCALENDAR