BEGIN:VCALENDAR
VERSION:2.0
PRODID:-//wp-events-plugin.com//7.2.3.1//EN
BEGIN:VEVENT
UID:78@thomaslaffont.fr
DTSTART;TZID=Europe/Paris:20200924T200000
DTEND;TZID=Europe/Paris:20200924T230000
DTSTAMP:20200917T124744Z
URL:https://thomaslaffont.fr/events/thomas-laffont-quartet/
SUMMARY:Thomas Laffont Quartet - Edgar
DESCRIPTION:C'est avec grand plaisir que je présenterais ce nouveau projet
  au Cloître (Marseille 13ème) le jeudi 24 septembre 2020.\n\nThomas Laff
 ont Quartet :\nRaphaël Illes : Saxophone\nDavid Guttierez : Guitare\nThom
 as Laffont : Basse / Composition\nCédrick Bec : Batterie\n\nEvénement fa
 cebook : concert au Cloître\n\nAdresse : 20 bd Madeleine Rémusat 13013.\
 nOuverture des portes à 19h30.\n&#x26a0\;&#xfe0f\; Nombre de personnes li
 mité\, avec un accès uniquement sur réservation.\nEntrée gratuite uniq
 uement sur réservation + service de restauration payant (15€/ personne 
 planches et 4€ boisson).\n&#x1f371\; Planche Charcuterie Fromage ou plan
 che végétarienne.\n\nVenez nombreux !\n\nhttps://www.youtube.com/watch?v
 =KWsOET8GoNQ
LOCATION:Le Cloître\, 20 boulevard Madeleine Rémusat\, Marseille\, 130013
 \, France
X-APPLE-STRUCTURED-LOCATION;VALUE=URI;X-ADDRESS=20 boulevard Madeleine Rém
 usat\, Marseille\, 130013\, France;X-APPLE-RADIUS=100;X-TITLE=Le Cloître:
 geo:0,0
END:VEVENT
BEGIN:VTIMEZONE
TZID:Europe/Paris
X-LIC-LOCATION:Europe/Paris
BEGIN:DAYLIGHT
DTSTART:20200329T030000
TZOFFSETFROM:+0100
TZOFFSETTO:+0200
TZNAME:CEST
END:DAYLIGHT
END:VTIMEZONE
END:VCALENDAR