BEGIN:VCALENDAR
VERSION:2.0
PRODID:-//wp-events-plugin.com//7.2.3.1//EN
BEGIN:VEVENT
UID:85@thomaslaffont.fr
DTSTART;TZID=Europe/Paris:20211001T203000
DTEND;TZID=Europe/Paris:20211001T233000
DTSTAMP:20210826T093809Z
URL:https://thomaslaffont.fr/events/thomas-laffont-quartet-edgar/
SUMMARY:Thomas Laffont Quartet - Edgar
DESCRIPTION:C'est avec grand plaisir que je présenterais ce nouveau projet
  au théâtre Denis (Hyères) le 1er octobre 2021.\n\nThomas Laffont Quart
 et :\nRaphaël Illes : Saxophone\nDavid Guttierez : Guitare\nThomas Laffon
 t : Basse / Composition\nCédrick Bec : Batterie\n\nInfos et réservation 
 : concert au théâtre Denis\n\nVenez nombreux !\n\nhttps://www.youtube.co
 m/watch?v=KWsOET8GoNQ
LOCATION:Théâtre Denis\, 12 cours de strasbourg\, Hyères\, 83400\, Franc
 e
X-APPLE-STRUCTURED-LOCATION;VALUE=URI;X-ADDRESS=12 cours de strasbourg\, Hy
 ères\, 83400\, France;X-APPLE-RADIUS=100;X-TITLE=Théâtre Denis:geo:0,0
END:VEVENT
BEGIN:VTIMEZONE
TZID:Europe/Paris
X-LIC-LOCATION:Europe/Paris
BEGIN:DAYLIGHT
DTSTART:20210328T030000
TZOFFSETFROM:+0100
TZOFFSETTO:+0200
TZNAME:CEST
END:DAYLIGHT
END:VTIMEZONE
END:VCALENDAR