BEGIN:VCALENDAR
VERSION:2.0
PRODID:-//wp-events-plugin.com//7.2.3.1//EN
BEGIN:VEVENT
UID:110@thomaslaffont.fr
DTSTART;TZID=Europe/Paris:20220811T190000
DTEND;TZID=Europe/Paris:20220811T203000
DTSTAMP:20220531T133627Z
URL:https://thomaslaffont.fr/events/thomas-laffont-quartet-edgar-9/
SUMMARY:Thomas Laffont Quartet - Edgar
DESCRIPTION:C'est avec grand plaisir que je présenterais ce nouveau projet
  de compositions personnelles "Edgar - Thomas Laffont Quartet".\nAlbum dis
 po ici : Album Edgar\n\nRaphaël Illes : Saxophone\nDavid Guttierez : Guit
 are\nThomas Laffont : Basse / Composition\nCédrick Bec : Batterie\n\nVene
 z nombreux !\n\n[embed]https://www.youtube.com/watch?v=Ee6BpDqjV0I[/embed]
 \n\n&nbsp\;
LOCATION:Restaurant Le Provençal\, 113 Pl. Saint-Pierre\, Hyères\, 83400\
 , France
X-APPLE-STRUCTURED-LOCATION;VALUE=URI;X-ADDRESS=113 Pl. Saint-Pierre\, Hyè
 res\, 83400\, France;X-APPLE-RADIUS=100;X-TITLE=Restaurant Le Provençal:g
 eo:0,0
END:VEVENT
BEGIN:VTIMEZONE
TZID:Europe/Paris
X-LIC-LOCATION:Europe/Paris
BEGIN:DAYLIGHT
DTSTART:20220327T030000
TZOFFSETFROM:+0100
TZOFFSETTO:+0200
TZNAME:CEST
END:DAYLIGHT
END:VTIMEZONE
END:VCALENDAR