BEGIN:VCALENDAR
VERSION:2.0
PRODID:-//wp-events-plugin.com//7.2.3.1//EN
BEGIN:VEVENT
UID:92@thomaslaffont.fr
DTSTART;TZID=Europe/Paris:20220522T203000
DTEND;TZID=Europe/Paris:20220522T224500
DTSTAMP:20220308T110052Z
URL:https://thomaslaffont.fr/events/thomas-laffont-quartet-edgar-7/
SUMMARY:Thomas Laffont Quartet - Edgar
DESCRIPTION:C'est avec grand plaisir que je présenterais ce nouveau projet
  au Théâtre Atelier Florentin (Avignon) le 22 mai 2022 dans le cadre de 
 la programmation Jazz au TAF.\n\nThomas Laffont Quartet :\nRaphaël Illes 
 : Saxophone\nDavid Guttierez : Guitare\nThomas Laffont : Basse / Compositi
 on\nCédrick Bec : Batterie\n\nInfos et réservation : Jazz au T.A.F.\n\nV
 enez nombreux !\n\nhttps://www.youtube.com/watch?v=DI_zC08J62I\n\n&nbsp\;
LOCATION:Théâtre Atelier Florentin\, 28 Rue Guillaume Puy\, Avignon\, 840
 00\, France
X-APPLE-STRUCTURED-LOCATION;VALUE=URI;X-ADDRESS=28 Rue Guillaume Puy\, Avig
 non\, 84000\, France;X-APPLE-RADIUS=100;X-TITLE=Théâtre Atelier Florenti
 n:geo:0,0
END:VEVENT
BEGIN:VTIMEZONE
TZID:Europe/Paris
X-LIC-LOCATION:Europe/Paris
BEGIN:DAYLIGHT
DTSTART:20220327T030000
TZOFFSETFROM:+0100
TZOFFSETTO:+0200
TZNAME:CEST
END:DAYLIGHT
END:VTIMEZONE
END:VCALENDAR