BEGIN:VCALENDAR
VERSION:2.0
PRODID:-//wp-events-plugin.com//7.2.3.1//EN
BEGIN:VEVENT
UID:91@thomaslaffont.fr
DTSTART;TZID=Europe/Paris:20220415T204500
DTEND;TZID=Europe/Paris:20220415T230000
DTSTAMP:20220308T105424Z
URL:https://thomaslaffont.fr/events/thomas-laffont-quartet-edgar-6/
SUMMARY:Thomas Laffont Quartet - Edgar
DESCRIPTION:C'est avec grand plaisir que je présenterais ce nouveau projet
  au théâtre à la caverne Jazz (Marseille) le 15 avril 2022.\n\nThomas L
 affont Quartet :\nRaphaël Illes : Saxophone\nDavid Guttierez : Guitare\nT
 homas Laffont : Basse / Composition\nCédrick Bec : Batterie\n\nInfos et r
 éservation : concert à la caverne Jazz\n\nVenez nombreux !\n\nhttps://ww
 w.youtube.com/watch?v=DI_zC08J62I\n\n&nbsp\;
LOCATION:Caverne Jazz\, 20 bd Fifi-turin\, Marseille\, 13010\, France
X-APPLE-STRUCTURED-LOCATION;VALUE=URI;X-ADDRESS=20 bd Fifi-turin\, Marseill
 e\, 13010\, France;X-APPLE-RADIUS=100;X-TITLE=Caverne Jazz:geo:0,0
END:VEVENT
BEGIN:VTIMEZONE
TZID:Europe/Paris
X-LIC-LOCATION:Europe/Paris
BEGIN:DAYLIGHT
DTSTART:20220327T030000
TZOFFSETFROM:+0100
TZOFFSETTO:+0200
TZNAME:CEST
END:DAYLIGHT
END:VTIMEZONE
END:VCALENDAR