BEGIN:VCALENDAR
VERSION:2.0
PRODID:-//wp-events-plugin.com//7.2.3.1//EN
BEGIN:VEVENT
UID:90@thomaslaffont.fr
DTSTART;TZID=Europe/Paris:20211203T203000
DTEND;TZID=Europe/Paris:20211203T233000
DTSTAMP:20211110T130750Z
URL:https://thomaslaffont.fr/events/thomas-laffont-quartet-edgar-5/
SUMMARY:Thomas Laffont Quartet - Edgar
DESCRIPTION:C'est avec grand plaisir que je présenterais ce nouveau projet
  à l'espace Art &amp\; Jeunesse (Aubagne) le 3 Décembre 2021.\n\nThomas 
 Laffont Quartet :\nRaphaël Illes : Saxophone\nDavid Guttierez : Guitare\n
 Thomas Laffont : Basse / Composition\nJérôme Mouriez : Batterie\n\nInfos
  et réservation : à venir\n\nVenez nombreux !\n\nhttps://www.youtube.com
 /watch?v=KWsOET8GoNQ
LOCATION:Espace Art & Jeunesse\, 164 Chemin de St Michel\, Aubagne\, 13400\
 , France
X-APPLE-STRUCTURED-LOCATION;VALUE=URI;X-ADDRESS=164 Chemin de St Michel\, A
 ubagne\, 13400\, France;X-APPLE-RADIUS=100;X-TITLE=Espace Art & Jeunesse:g
 eo:0,0
END:VEVENT
BEGIN:VTIMEZONE
TZID:Europe/Paris
X-LIC-LOCATION:Europe/Paris
BEGIN:STANDARD
DTSTART:20211031T020000
TZOFFSETFROM:+0200
TZOFFSETTO:+0100
TZNAME:CET
END:STANDARD
END:VTIMEZONE
END:VCALENDAR