BEGIN:VCALENDAR
VERSION:2.0
PRODID:-//wp-events-plugin.com//7.2.3.1//EN
BEGIN:VEVENT
UID:126@thomaslaffont.fr
DTSTART;TZID=Europe/Paris:20240705T210000
DTEND;TZID=Europe/Paris:20240705T230000
DTSTAMP:20240620T145115Z
URL:https://thomaslaffont.fr/events/thomas-laffont-quartet-edgar-14/
SUMMARY:Thomas Laffont Quartet - Edgar
DESCRIPTION:Un concert pour découvrir mon projet jazz !\nCe concert aura l
 ieu le 05 juillet 2024 dans la cour du château de Peyrolles-en-Provence.\
 nAlbum dispo ici : Album Edgar\n\nMax Atger : Saxophone\nDavid Guttierez :
  Guitare\nThomas Laffont : Basse / Composition\nCédrick Bec : Batterie\n\
 nVenez nombreux !\n\n[embed]https://www.youtube.com/watch?v=Ee6BpDqjV0I[/e
 mbed]\n\n&nbsp\;
LOCATION:Cour du Château\, Hotel de ville\, Peyrolles-en-Provence\, 13860\
 , France
X-APPLE-STRUCTURED-LOCATION;VALUE=URI;X-ADDRESS=Hotel de ville\, Peyrolles-
 en-Provence\, 13860\, France;X-APPLE-RADIUS=100;X-TITLE=Cour du Château:g
 eo:0,0
END:VEVENT
BEGIN:VTIMEZONE
TZID:Europe/Paris
X-LIC-LOCATION:Europe/Paris
BEGIN:DAYLIGHT
DTSTART:20240331T030000
TZOFFSETFROM:+0100
TZOFFSETTO:+0200
TZNAME:CEST
END:DAYLIGHT
END:VTIMEZONE
END:VCALENDAR