BEGIN:VCALENDAR
VERSION:2.0
PRODID:-//wp-events-plugin.com//7.2.3.1//EN
BEGIN:VEVENT
UID:18@thomaslaffont.fr
DTSTART;TZID=Europe/Paris:20160510T200000
DTEND;TZID=Europe/Paris:20160510T204500
DTSTAMP:20160125T163343Z
URL:https://thomaslaffont.fr/events/thomas-laffont-group/
SUMMARY:Thomas Laffont Group
DESCRIPTION:Concert du Thomas Laffont Group en première partie du quartet
  Lutz à l'IMFP de Salon-de-Provence.\n\nJules Lapébie : Guitare\nJerry 
 Lapierre : Clavier\nThomas Laffont : Basse / Composition\nArthur Billès :
  Batterie\n\nhttps://www.youtube.com/watch?v=uZSJaG9QZ0I
LOCATION:IMFP\, 95 avenue Raoul Francou\, Salon-de-Provence\, France
GEO:43.63953619999999;5.083174500000041
X-APPLE-STRUCTURED-LOCATION;VALUE=URI;X-ADDRESS=95 avenue Raoul Francou\, S
 alon-de-Provence\, France;X-APPLE-RADIUS=100;X-TITLE=IMFP:geo:43.639536199
 99999,5.083174500000041
END:VEVENT
BEGIN:VTIMEZONE
TZID:Europe/Paris
X-LIC-LOCATION:Europe/Paris
BEGIN:DAYLIGHT
DTSTART:20160327T030000
TZOFFSETFROM:+0100
TZOFFSETTO:+0200
TZNAME:CEST
END:DAYLIGHT
END:VTIMEZONE
END:VCALENDAR