BEGIN:VCALENDAR
VERSION:2.0
PRODID:-//wp-events-plugin.com//7.2.3.1//EN
BEGIN:VEVENT
UID:57@thomaslaffont.fr
DTSTART;TZID=Europe/Paris:20180519T180000
DTEND;TZID=Europe/Paris:20180519T193000
DTSTAMP:20180430T075022Z
URL:https://thomaslaffont.fr/events/thomas-laffont-group-en-concert/
SUMMARY:Thomas Laffont Group en concert
DESCRIPTION:C'est avec grand plaisir que je présenterais ce projet au Pôl
 e culturel de La Barasse (Marseille) le samedi 19 Mai 2018 à 18h.\nEntré
 e Libre\n\nThomas Laffont Group :\nThomas Laffont : Basse / composition\nJ
 ules Lapébie : Guitare\nFranck Lamiot : Orgue Hammond\nArthur Billès : B
 atterie\n\nEvènement facebook :&nbsp\;https://www.facebook.com/events/171
 6540055075448/\n\nVenez nombreux !\n\n&nbsp\;\n\n&nbsp\;
LOCATION:CMA LA Barasse\, 100 Boulevard de la Barasse\, Marseille\, 13011\,
  France
GEO:43.2854746;5.480768799999964
X-APPLE-STRUCTURED-LOCATION;VALUE=URI;X-ADDRESS=100 Boulevard de la Barasse
 \, Marseille\, 13011\, France;X-APPLE-RADIUS=100;X-TITLE=CMA LA Barasse:ge
 o:43.2854746,5.480768799999964
END:VEVENT
BEGIN:VTIMEZONE
TZID:Europe/Paris
X-LIC-LOCATION:Europe/Paris
BEGIN:DAYLIGHT
DTSTART:20180325T030000
TZOFFSETFROM:+0100
TZOFFSETTO:+0200
TZNAME:CEST
END:DAYLIGHT
END:VTIMEZONE
END:VCALENDAR