BEGIN:VCALENDAR
VERSION:2.0
PRODID:-//wp-events-plugin.com//7.2.3.1//EN
BEGIN:VEVENT
UID:20@thomaslaffont.fr
DTSTART;TZID=Europe/Paris:20170202T203000
DTEND;TZID=Europe/Paris:20170202T230000
DTSTAMP:20170124T141154Z
URL:https://thomaslaffont.fr/events/thomas-laffont-group-concert/
SUMMARY:Thomas Laffont Group en concert
DESCRIPTION:C'est avec grand plaisir que je présenterais ce projet au JAM 
 (Marseille) le jeudi 2 février 2017.\n\nThomas Laffont Group :\nThomas La
 ffont : Basse / composition\nJules Lapébie : Guitare\nFranck Lamiot : Org
 ue Hammond\nArthur Billès : Batterie\n\nOuverture des portes à 19h30\, c
 oncert à 20h30.\nPAF : 10€\n\nPlus d'informations sur l’événement f
 acebook du concert :&nbsp\;Thomas Laffont Group au JAM\n\nVenez nombreux !
LOCATION:Le JAM\, 42 rue des trois rois\, MARSEILLE\, 13004\, France
GEO:43.2943039;5.3849361000000044
X-APPLE-STRUCTURED-LOCATION;VALUE=URI;X-ADDRESS=42 rue des trois rois\, MAR
 SEILLE\, 13004\, France;X-APPLE-RADIUS=100;X-TITLE=Le JAM:geo:43.2943039,5
 .3849361000000044
END:VEVENT
BEGIN:VTIMEZONE
TZID:Europe/Paris
X-LIC-LOCATION:Europe/Paris
BEGIN:STANDARD
DTSTART:20161030T020000
TZOFFSETFROM:+0200
TZOFFSETTO:+0100
TZNAME:CET
END:STANDARD
END:VTIMEZONE
END:VCALENDAR