BEGIN:VCALENDAR
VERSION:2.0
PRODID:-//wp-events-plugin.com//7.2.3.1//EN
BEGIN:VEVENT
UID:46@thomaslaffont.fr
DTSTART;TZID=Europe/Paris:20171130T200000
DTEND;TZID=Europe/Paris:20171130T233000
DTSTAMP:20171119T112533Z
URL:https://thomaslaffont.fr/events/thomas-laffont-group-concert-3/
SUMMARY:Thomas Laffont Group en concert
DESCRIPTION:C'est avec grand plaisir que je présenterais ce projet au Roug
 e Belle de Mai (Marseille) le jeudi 30 Novembre 2017.\n\nThomas Laffont Gr
 oup :\nThomas Laffont : Basse / composition\nJules Lapébie : Guitare\nFra
 nck Lamiot : Orgue Hammond\nArthur Billès : Batterie\n\nwww.rougebelledem
 ai.com\nOuverture à 19 h 30\nRestauration toute la soirée 8€/10€\nCo
 ncert à 21 heures&nbsp\;\nP.A.F. 10 €\nRÉSERVATION CONSEILLÉE au 04.9
 1.07.00.87\n\nVenez nombreux !\n\n\n\n&nbsp\;
LOCATION:Rouge Belle de Mai\, 47 rue Fortuné Jordan\, Marseille\, 13003\, 
 France
GEO:43.3114295;5.386963100000003
X-APPLE-STRUCTURED-LOCATION;VALUE=URI;X-ADDRESS=47 rue Fortuné Jordan\, Ma
 rseille\, 13003\, France;X-APPLE-RADIUS=100;X-TITLE=Rouge Belle de Mai:geo
 :43.3114295,5.386963100000003
END:VEVENT
BEGIN:VTIMEZONE
TZID:Europe/Paris
X-LIC-LOCATION:Europe/Paris
BEGIN:STANDARD
DTSTART:20171029T020000
TZOFFSETFROM:+0200
TZOFFSETTO:+0100
TZNAME:CET
END:STANDARD
END:VTIMEZONE
END:VCALENDAR