BEGIN:VCALENDAR
VERSION:2.0
PRODID:-//wp-events-plugin.com//7.2.3.1//EN
BEGIN:VEVENT
UID:53@thomaslaffont.fr
DTSTART;TZID=Europe/Paris:20180319T233000
DTEND;TZID=Europe/Paris:20180320T010000
DTSTAMP:20180303T210815Z
URL:https://thomaslaffont.fr/events/thomas-laffont-group-4/
SUMMARY:Thomas Laffont Group - Festival International du Film d'Aubagne
DESCRIPTION:En tant que lauréat de la&nbsp\;pépinière d'artistes&nbsp\;2
 018&nbsp\;(lire l'article)\, le Thomas Laffont Group sera en concert en ou
 verture du festival du film d'Aubagne.\n\nRendez-vous le 19 Mars à 23h30 
 à l'espace des liberté pour partager ce bon moment avec nous !\n\nEntré
 e libre !\n\nThomas Laffont : Basse / Composition\nFranck Lamiot : Orgue H
 ammond\nJules Lapébie : Guitare\nArthur Billès : Batterie
LOCATION:Espace des libertés\, Espace des libertés\, Aubagne\, France
GEO:43.2942428;5.5633004999999685
X-APPLE-STRUCTURED-LOCATION;VALUE=URI;X-ADDRESS=Espace des libertés\, Auba
 gne\, France;X-APPLE-RADIUS=100;X-TITLE=Espace des libertés:geo:43.294242
 8,5.5633004999999685
END:VEVENT
BEGIN:VTIMEZONE
TZID:Europe/Paris
X-LIC-LOCATION:Europe/Paris
BEGIN:STANDARD
DTSTART:20171029T020000
TZOFFSETFROM:+0200
TZOFFSETTO:+0100
TZNAME:CET
END:STANDARD
END:VTIMEZONE
END:VCALENDAR