BEGIN:VCALENDAR
VERSION:2.0
PRODID:-//wp-events-plugin.com//7.2.3.1//EN
BEGIN:VEVENT
UID:26@thomaslaffont.fr
DTSTART;TZID=Europe/Paris:20170309T203000
DTEND;TZID=Europe/Paris:20170309T223000
DTSTAMP:20170306T093446Z
URL:https://thomaslaffont.fr/events/thomas-laffont-group-2/
SUMMARY:Thomas Laffont Group
DESCRIPTION:Le Thomas Laffont Group sera en concert à l'U.percut le&nbsp\;
 jeudi 9 mars&nbsp\;2017.\n\nThomas Laffont Group :\nThomas Laffont : Basse
  / composition\nJules Lapébie : Guitare\nFranck Lamiot : Orgue Hammond\nA
 rthur Billès : Batterie\n\nOuverture des portes à 19h30\, concert à&nbs
 p\;21h.\nPAF : 7€\n\nEvénement facebook :&nbsp\;https://www.facebook.co
 m/events/231381713994280/\n\nVenez nombreux !
LOCATION:U.percut\, 127 rue Sainte\, MARSEILLE\, 13007\, France
GEO:43.2908785;5.3681223999999474
X-APPLE-STRUCTURED-LOCATION;VALUE=URI;X-ADDRESS=127 rue Sainte\, MARSEILLE\
 , 13007\, France;X-APPLE-RADIUS=100;X-TITLE=U.percut:geo:43.2908785,5.3681
 223999999474
END:VEVENT
BEGIN:VTIMEZONE
TZID:Europe/Paris
X-LIC-LOCATION:Europe/Paris
BEGIN:STANDARD
DTSTART:20161030T020000
TZOFFSETFROM:+0200
TZOFFSETTO:+0100
TZNAME:CET
END:STANDARD
END:VTIMEZONE
END:VCALENDAR