BEGIN:VCALENDAR
VERSION:2.0
PRODID:-//wp-events-plugin.com//7.2.3.1//EN
BEGIN:VEVENT
UID:59@thomaslaffont.fr
DTSTART;TZID=Europe/Paris:20180621T200000
DTEND;TZID=Europe/Paris:20180621T203000
DTSTAMP:20180608T093415Z
URL:https://thomaslaffont.fr/events/thomas-laffont-en-solo/
SUMMARY:Thomas Laffont en Solo
DESCRIPTION:Pour la fête de la musique\, je serais en concert en solo sur 
 la scène "pépinière d'artistes" situé cours Foch à Aubagne.\n\nLe con
 cert aura lieu de 20h à 20h30.\n\nEntrée libre.\n\n&nbsp\;
END:VEVENT
BEGIN:VTIMEZONE
TZID:Europe/Paris
X-LIC-LOCATION:Europe/Paris
BEGIN:DAYLIGHT
DTSTART:20180325T030000
TZOFFSETFROM:+0100
TZOFFSETTO:+0200
TZNAME:CEST
END:DAYLIGHT
END:VTIMEZONE
END:VCALENDAR