BEGIN:VCALENDAR
VERSION:2.0
PRODID:-//wp-events-plugin.com//7.2.3.1//EN
BEGIN:VEVENT
UID:27@thomaslaffont.fr
DTSTART;TZID=Europe/Paris:20170310T193000
DTEND;TZID=Europe/Paris:20170310T230000
DTSTAMP:20170306T170717Z
URL:https://thomaslaffont.fr/events/soul-up-trio-concert/
SUMMARY:Soul Up! trio en concert
DESCRIPTION:Le Radisson Blu est fier de vous présenter les "Lives du Quai"
  à partir de 19 h tous les&nbsp\;vendredis\n\nVendredi 10&nbsp\;Mars 2017
 &nbsp\;:&nbsp\;Soul Up ! trio&nbsp\;\n\nSandrine Lourenço : Chant\nJulien
  Husson : Guitare\nThomas Laffont : Basse\n\nEntrée libre\n\n&nbsp\;
LOCATION:Le Quai du 7ième\, 38 Quai Rive Neuve\, MARSEILLE\, 13007\, Franc
 e
GEO:43.2922404;5.367413299999953
X-APPLE-STRUCTURED-LOCATION;VALUE=URI;X-ADDRESS=38 Quai Rive Neuve\, MARSEI
 LLE\, 13007\, France;X-APPLE-RADIUS=100;X-TITLE=Le Quai du 7ième:geo:43.2
 922404,5.367413299999953
END:VEVENT
BEGIN:VTIMEZONE
TZID:Europe/Paris
X-LIC-LOCATION:Europe/Paris
BEGIN:STANDARD
DTSTART:20161030T020000
TZOFFSETFROM:+0200
TZOFFSETTO:+0100
TZNAME:CET
END:STANDARD
END:VTIMEZONE
END:VCALENDAR