BEGIN:VCALENDAR
VERSION:2.0
PRODID:-//wp-events-plugin.com//7.2.3.1//EN
BEGIN:VEVENT
UID:25@thomaslaffont.fr
DTSTART;TZID=Europe/Paris:20170223T210000
DTEND;TZID=Europe/Paris:20170223T223000
DTSTAMP:20170220T075014Z
URL:https://thomaslaffont.fr/events/soul-up-tribute-to-motown/
SUMMARY:Soul Up ! Tribute To Motown
DESCRIPTION:Concert de fin de résidence à l'U.percut (Marseille)\n« Soul
  Up ! Tribute to Motown » rend hommage à la Motown et aux Funk Brothers 
 en musique. Une expérience pleine d'énergie qui vous fera danser dans le
  Détroit des « sixties » depuis Marseille 2017!\n\nSandrine Lourenço :
  Chant\nYannick Destrée : Saxophone\nVincent Linden : Trompette\nJulien H
 usson : Guitare\nFlorent Klein : Batterie\nThomas Laffont : Basse\n\nPAF :
  6€\n\nPlus d'informations : https://www.facebook.com/events/26065665437
 7910/
LOCATION:U.percut\, 127 rue Sainte\, MARSEILLE\, 13007\, France
GEO:43.2908785;5.3681223999999474
X-APPLE-STRUCTURED-LOCATION;VALUE=URI;X-ADDRESS=127 rue Sainte\, MARSEILLE\
 , 13007\, France;X-APPLE-RADIUS=100;X-TITLE=U.percut:geo:43.2908785,5.3681
 223999999474
END:VEVENT
BEGIN:VTIMEZONE
TZID:Europe/Paris
X-LIC-LOCATION:Europe/Paris
BEGIN:STANDARD
DTSTART:20161030T020000
TZOFFSETFROM:+0200
TZOFFSETTO:+0100
TZNAME:CET
END:STANDARD
END:VTIMEZONE
END:VCALENDAR