BEGIN:VCALENDAR
VERSION:2.0
PRODID:-//wp-events-plugin.com//7.2.3.1//EN
BEGIN:VEVENT
UID:15@thomaslaffont.fr
DTSTART;TZID=Europe/Paris:20151118T200000
DTEND;TZID=Europe/Paris:20151118T213000
DTSTAMP:20151103T080809Z
URL:https://thomaslaffont.fr/events/soul-up-en-concert-a-limfp/
SUMMARY:Soul Up ! en concert à l'IMFP
DESCRIPTION:Soul Up ! en concert à l'IMFP de Salon-de-Provence.\nRépertoi
 re de reprises Soul\, Jazz et Motown.\n\nNous jouerons en quartet avec Flo
 rent Klein à la batterie.\nVenez nombreux !\n\nTarif : 5€\n\nwww.soul-u
 p.fr\n\nSandrine Lourenço - Chant\nJulien Husson - Guitare\nThomas Laffon
 t - Basse\nFlorent Klein - Batterie
LOCATION:IMFP\, 95 avenue Raoul Francou\, Salon-de-Provence\, 13300\, Franc
 e
GEO:43.63953619999999;5.083174099999951
X-APPLE-STRUCTURED-LOCATION;VALUE=URI;X-ADDRESS=95 avenue Raoul Francou\, S
 alon-de-Provence\, 13300\, France;X-APPLE-RADIUS=100;X-TITLE=IMFP:geo:43.6
 3953619999999,5.083174099999951
END:VEVENT
BEGIN:VTIMEZONE
TZID:Europe/Paris
X-LIC-LOCATION:Europe/Paris
BEGIN:STANDARD
DTSTART:20151025T020000
TZOFFSETFROM:+0200
TZOFFSETTO:+0100
TZNAME:CET
END:STANDARD
END:VTIMEZONE
END:VCALENDAR