BEGIN:VCALENDAR
VERSION:2.0
PRODID:-//wp-events-plugin.com//7.2.3.1//EN
BEGIN:VEVENT
UID:68@thomaslaffont.fr
DTSTART;TZID=Europe/Paris:20190411T190000
DTEND;TZID=Europe/Paris:20190411T200000
DTSTAMP:20190322T162817Z
URL:https://thomaslaffont.fr/events/sortie-de-residence-saamara/
SUMMARY:Sortie de résidence - Saamara
DESCRIPTION:Le groupe Saämara Project sera en concert de sortie de réside
 nce au Cri du Port&nbsp\;(Marseille) le 11 Avril 2019 à 19h.\n\nCe sera l
 'occasion de présenter ce nouveau projet.\n\nEntrée gratuite&nbsp\;\n\nh
 ttps://www.youtube.com/watch?v=Mly3pMau2-Y
LOCATION:Le Cri Du port\, 8 rue du Pasteur Heuzé\, Marseille\, 13003\, Fra
 nce
X-APPLE-STRUCTURED-LOCATION;VALUE=URI;X-ADDRESS=8 rue du Pasteur Heuzé\, M
 arseille\, 13003\, France;X-APPLE-RADIUS=100;X-TITLE=Le Cri Du port:geo:0,
 0
END:VEVENT
BEGIN:VTIMEZONE
TZID:Europe/Paris
X-LIC-LOCATION:Europe/Paris
BEGIN:DAYLIGHT
DTSTART:20190331T030000
TZOFFSETFROM:+0100
TZOFFSETTO:+0200
TZNAME:CEST
END:DAYLIGHT
END:VTIMEZONE
END:VCALENDAR