BEGIN:VCALENDAR
VERSION:2.0
PRODID:-//wp-events-plugin.com//7.2.3.1//EN
BEGIN:VEVENT
UID:125@thomaslaffont.fr
DTSTART:20240107T170000Z
DTEND:20240107T200000Z
DTSTAMP:20240105T131333Z
URL:https://thomaslaffont.fr/events/solilive-4-plan-de-cuques/
SUMMARY:Soli'Live 4 - Plan-de-Cuques
DESCRIPTION:Soli’Live est un concert solidaire au profit de trois associa
 tions qui œuvrent auprès d’enfants malades.\n\nPour cette nouvelle Edi
 tion\, ils recevront : Christophe Maé \, Ginie Line \, une partie de la t
 roupe de Mozart l'opéra Rock ( Merwan Rim et Mikelangelo Loconte)\,\nLes 
 L5 (Alexandra\, Marjorie et Coralie) Jean Menconi\, Jacques veneruso et bi
 en d'autres...\n\nPlus d'informations ici.
LOCATION:Gymnase des Ambrosis\, Rue Colette Besson\, Plan-de-Cuques\, Franc
 e
X-APPLE-STRUCTURED-LOCATION;VALUE=URI;X-ADDRESS=Rue Colette Besson\, Plan-d
 e-Cuques\, France;X-APPLE-RADIUS=100;X-TITLE=Gymnase des Ambrosis:geo:0,0
END:VEVENT
END:VCALENDAR