BEGIN:VCALENDAR
VERSION:2.0
PRODID:-//wp-events-plugin.com//7.2.3.1//EN
BEGIN:VEVENT
UID:61@thomaslaffont.fr
DTSTART;TZID=Europe/Paris:20181108T203000
DTEND;TZID=Europe/Paris:20181108T220000
DTSTAMP:20181009T144437Z
URL:https://thomaslaffont.fr/events/show-case-thomas-laffont-group-2/
SUMMARY:Sortie de résidence - Thomas Laffont Group
DESCRIPTION:Le Thomas Laffont Group sera en concert de sortie de résidence
  au Théâtre Comoedia (Aubagne)&nbsp\;le 8 novembre 2018 à 20h30.\nCe co
 ncert sera gratuit et présentera l'album "The House By The Sea" en avant 
 première.\nMerci de compléter ce formulaire pour réserver vos places : 
 réserver\n\nJules Lapébie :&nbsp\;Guitare\nFranck Lamiot : Orgue Hammond
 \nThomas Laffont : Basse / Composition\nArthur Billès : Batterie\n\nhttps
 ://www.youtube.com/watch?v=igmp0ZMKW5Q
LOCATION:Théâtre Comoedia\, 13 Cours Maréchal Foch\, Aubagne\, 13400\, F
 rance
GEO:43.2934581;5.567309099999989
X-APPLE-STRUCTURED-LOCATION;VALUE=URI;X-ADDRESS=13 Cours Maréchal Foch\, A
 ubagne\, 13400\, France;X-APPLE-RADIUS=100;X-TITLE=Théâtre Comoedia:geo:
 43.2934581,5.567309099999989
END:VEVENT
BEGIN:VTIMEZONE
TZID:Europe/Paris
X-LIC-LOCATION:Europe/Paris
BEGIN:STANDARD
DTSTART:20181028T020000
TZOFFSETFROM:+0200
TZOFFSETTO:+0100
TZNAME:CET
END:STANDARD
END:VTIMEZONE
END:VCALENDAR