BEGIN:VCALENDAR
VERSION:2.0
PRODID:-//wp-events-plugin.com//7.2.3.1//EN
BEGIN:VEVENT
UID:79@thomaslaffont.fr
DTSTART;TZID=Europe/Paris:20200926T203000
DTEND;TZID=Europe/Paris:20200926T230000
DTSTAMP:20200916T170711Z
URL:https://thomaslaffont.fr/events/saamara-project/
SUMMARY:Saamara Project
DESCRIPTION:Le Saämara Project sera en concert dans les jardins de la mais
 on des association\, à la Penne-sur-huveaune\, le 26 Septembre 2020 à 20
 h30.\n\nCe sera l'occasion de découvrir ce beau projet.\nEntrée Libre\n\
 nhttps://www.youtube.com/watch?v=Mly3pMau2-Y
LOCATION:Maison des Associations\, Boulevard de la gare\, Penne sur Huveaun
 e\, 13821\, France
X-APPLE-STRUCTURED-LOCATION;VALUE=URI;X-ADDRESS=Boulevard de la gare\, Penn
 e sur Huveaune\, 13821\, France;X-APPLE-RADIUS=100;X-TITLE=Maison des Asso
 ciations:geo:0,0
END:VEVENT
BEGIN:VTIMEZONE
TZID:Europe/Paris
X-LIC-LOCATION:Europe/Paris
BEGIN:DAYLIGHT
DTSTART:20200329T030000
TZOFFSETFROM:+0100
TZOFFSETTO:+0200
TZNAME:CEST
END:DAYLIGHT
END:VTIMEZONE
END:VCALENDAR