BEGIN:VCALENDAR
VERSION:2.0
PRODID:-//wp-events-plugin.com//7.2.3.1//EN
BEGIN:VEVENT
UID:96@thomaslaffont.fr
DTSTART;TZID=Europe/Paris:20220401T203000
DTEND;TZID=Europe/Paris:20220401T233000
DTSTAMP:20220308T113327Z
URL:https://thomaslaffont.fr/events/mc-sirop-quartet/
SUMMARY:MC Sirop Quartet
DESCRIPTION:Le quartet de MC Sirop sera en concert à la maison des Arts (C
 abriès) le 1er Avril 2022.\n\nCe sera l'occasion de présenter ce projet 
 aux influences hip-hop et jazz.\n\nhttps://youtu.be/DMGnG-FFI3Y?t=28
LOCATION:Maison des Arts de Cabriès\, 2010 rue des écoles \, Cabriès\, 1
 3480\, France
X-APPLE-STRUCTURED-LOCATION;VALUE=URI;X-ADDRESS=2010 rue des écoles \, Cab
 riès\, 13480\, France;X-APPLE-RADIUS=100;X-TITLE=Maison des Arts de Cabri
 ès:geo:0,0
END:VEVENT
BEGIN:VTIMEZONE
TZID:Europe/Paris
X-LIC-LOCATION:Europe/Paris
BEGIN:DAYLIGHT
DTSTART:20220327T030000
TZOFFSETFROM:+0100
TZOFFSETTO:+0200
TZNAME:CEST
END:DAYLIGHT
END:VTIMEZONE
END:VCALENDAR