BEGIN:VCALENDAR
VERSION:2.0
PRODID:-//wp-events-plugin.com//7.2.3.1//EN
BEGIN:VEVENT
UID:111@thomaslaffont.fr
DTSTART;TZID=Europe/Paris:20220723T200000
DTEND;TZID=Europe/Paris:20220723T230000
DTSTAMP:20220531T134026Z
URL:https://thomaslaffont.fr/events/mc-sirop-quartet-7/
SUMMARY:MC Sirop Quartet
DESCRIPTION:Le quartet de MC Sirop sera en concert à Port de Bouc (13) le 
 23 juillet 2022.\n\nCe sera l'occasion de présenter ce projet aux influen
 ces hip-hop et jazz.\n\nhttps://youtu.be/DMGnG-FFI3Y?t=28
LOCATION:Port de Bouc\, Port de Bouc\, Port de Bouc\, 13110\, France
X-APPLE-STRUCTURED-LOCATION;VALUE=URI;X-ADDRESS=Port de Bouc\, Port de Bouc
 \, 13110\, France;X-APPLE-RADIUS=100;X-TITLE=Port de Bouc:geo:0,0
END:VEVENT
BEGIN:VTIMEZONE
TZID:Europe/Paris
X-LIC-LOCATION:Europe/Paris
BEGIN:DAYLIGHT
DTSTART:20220327T030000
TZOFFSETFROM:+0100
TZOFFSETTO:+0200
TZNAME:CEST
END:DAYLIGHT
END:VTIMEZONE
END:VCALENDAR