BEGIN:VCALENDAR
VERSION:2.0
PRODID:-//wp-events-plugin.com//7.2.3.1//EN
BEGIN:VEVENT
UID:101@thomaslaffont.fr
DTSTART;TZID=Europe/Paris:20220408T200000
DTEND;TZID=Europe/Paris:20220408T230000
DTSTAMP:20220318T074758Z
URL:https://thomaslaffont.fr/events/mc-sirop-quartet-6/
SUMMARY:MC Sirop Quartet
DESCRIPTION:Le quartet de MC Sirop sera en concert à la Brasserie Communal
 e (Marseille) le 8 Avril 2022.\n\nCe sera l'occasion de présenter ce proj
 et aux influences hip-hop et jazz.\n\nhttps://youtu.be/DMGnG-FFI3Y?t=28
LOCATION:La Brasserie Communale\, 57 Cours Julien\, Marseille\, 13006\, Fra
 nce
X-APPLE-STRUCTURED-LOCATION;VALUE=URI;X-ADDRESS=57 Cours Julien\, Marseille
 \, 13006\, France;X-APPLE-RADIUS=100;X-TITLE=La Brasserie Communale:geo:0,
 0
END:VEVENT
BEGIN:VTIMEZONE
TZID:Europe/Paris
X-LIC-LOCATION:Europe/Paris
BEGIN:DAYLIGHT
DTSTART:20220327T030000
TZOFFSETFROM:+0100
TZOFFSETTO:+0200
TZNAME:CEST
END:DAYLIGHT
END:VTIMEZONE
END:VCALENDAR