BEGIN:VCALENDAR
VERSION:2.0
PRODID:-//wp-events-plugin.com//7.2.3.1//EN
BEGIN:VEVENT
UID:100@thomaslaffont.fr
DTSTART;TZID=Europe/Paris:20220603T200000
DTEND;TZID=Europe/Paris:20220603T230000
DTSTAMP:20220308T225528Z
URL:https://thomaslaffont.fr/events/mc-sirop-quartet-5/
SUMMARY:MC Sirop Quartet
DESCRIPTION:Le quartet de MC Sirop sera en concert à la caverne Jazz (Mars
 eille) le 3 juin 2022.\n\nCe sera l'occasion de présenter ce projet aux i
 nfluences hip-hop et jazz.\n\nhttps://youtu.be/DMGnG-FFI3Y?t=28
LOCATION:Caverne Jazz\, 20 bd Fifi-turin\, Marseille\, 13010\, France
X-APPLE-STRUCTURED-LOCATION;VALUE=URI;X-ADDRESS=20 bd Fifi-turin\, Marseill
 e\, 13010\, France;X-APPLE-RADIUS=100;X-TITLE=Caverne Jazz:geo:0,0
END:VEVENT
BEGIN:VTIMEZONE
TZID:Europe/Paris
X-LIC-LOCATION:Europe/Paris
BEGIN:DAYLIGHT
DTSTART:20220327T030000
TZOFFSETFROM:+0100
TZOFFSETTO:+0200
TZNAME:CEST
END:DAYLIGHT
END:VTIMEZONE
END:VCALENDAR