BEGIN:VCALENDAR
VERSION:2.0
PRODID:-//wp-events-plugin.com//7.2.3.1//EN
BEGIN:VEVENT
UID:99@thomaslaffont.fr
DTSTART;TZID=Europe/Paris:20220521T190000
DTEND;TZID=Europe/Paris:20220521T220000
DTSTAMP:20220308T225342Z
URL:https://thomaslaffont.fr/events/mc-sirop-quartet-4/
SUMMARY:MC Sirop Quartet
DESCRIPTION:Le quartet de MC Sirop sera en concert au festival AIRE DE JAZZ
  (Beauchastel) le 21 mai 2022.\n\nCe sera l'occasion de présenter ce proj
 et aux influences hip-hop et jazz.\n\nhttps://youtu.be/DMGnG-FFI3Y?t=28
LOCATION:Aire de Jazz\, Au pied du vieux village\, Beauchastel\, 07800\, Fr
 ance
X-APPLE-STRUCTURED-LOCATION;VALUE=URI;X-ADDRESS=Au pied du vieux village\, 
 Beauchastel\, 07800\, France;X-APPLE-RADIUS=100;X-TITLE=Aire de Jazz:geo:0
 ,0
END:VEVENT
BEGIN:VTIMEZONE
TZID:Europe/Paris
X-LIC-LOCATION:Europe/Paris
BEGIN:DAYLIGHT
DTSTART:20220327T030000
TZOFFSETFROM:+0100
TZOFFSETTO:+0200
TZNAME:CEST
END:DAYLIGHT
END:VTIMEZONE
END:VCALENDAR