BEGIN:VCALENDAR
VERSION:2.0
PRODID:-//wp-events-plugin.com//7.2.3.1//EN
BEGIN:VEVENT
UID:98@thomaslaffont.fr
DTSTART;TZID=Europe/Paris:20220520T200000
DTEND;TZID=Europe/Paris:20220520T230000
DTSTAMP:20220308T114851Z
URL:https://thomaslaffont.fr/events/mc-sirop-quartet-3/
SUMMARY:MC Sirop Quartet
DESCRIPTION:Le quartet de MC Sirop sera en concert au festival du Pois chic
 he (Montaren et St-Médiers) le 20 mai 2022.\n\nCe sera l'occasion de pré
 senter ce projet aux influences hip-hop et jazz.\n\nhttps://youtu.be/DMGnG
 -FFI3Y?t=28
LOCATION:Fête du pois chiche\, Mairie de Montaren\, Montaren et St-Médier
 s\, 30700\, France
X-APPLE-STRUCTURED-LOCATION;VALUE=URI;X-ADDRESS=Mairie de Montaren\, Montar
 en et St-Médiers\, 30700\, France;X-APPLE-RADIUS=100;X-TITLE=Fête du poi
 s chiche:geo:0,0
END:VEVENT
BEGIN:VTIMEZONE
TZID:Europe/Paris
X-LIC-LOCATION:Europe/Paris
BEGIN:DAYLIGHT
DTSTART:20220327T030000
TZOFFSETFROM:+0100
TZOFFSETTO:+0200
TZNAME:CEST
END:DAYLIGHT
END:VTIMEZONE
END:VCALENDAR