BEGIN:VCALENDAR
VERSION:2.0
PRODID:-//wp-events-plugin.com//7.2.3.1//EN
BEGIN:VEVENT
UID:17@thomaslaffont.fr
DTSTART;TZID=Europe/Paris:20160108T203000
DTEND;TZID=Europe/Paris:20160108T223000
DTSTAMP:20160119T152244Z
URL:https://thomaslaffont.fr/events/kormao-trio/
SUMMARY:Kormao Trio
DESCRIPTION:Concert au Living Art's (Marseille) avec le Kormao Trio (Jazz &
 amp\; Jazz-rock)\n\nFabrice Kormao - Piano / Compositions\nPaulo Monteiro 
 - Batterie\nThomas Laffont - Basse.\n\nDîner-Concert 32€ - Entrée seul
 e P.A.F. 10€\n\n&nbsp\;
LOCATION:Living Art's\, 50 cours Julien\, 13006 Marseille\, France
GEO:43.2945289;5.382747600000016
X-APPLE-STRUCTURED-LOCATION;VALUE=URI;X-ADDRESS=50 cours Julien\, 13006 Mar
 seille\, France;X-APPLE-RADIUS=100;X-TITLE=Living Art's:geo:43.2945289,5.3
 82747600000016
END:VEVENT
BEGIN:VTIMEZONE
TZID:Europe/Paris
X-LIC-LOCATION:Europe/Paris
BEGIN:STANDARD
DTSTART:20151025T020000
TZOFFSETFROM:+0200
TZOFFSETTO:+0100
TZNAME:CET
END:STANDARD
END:VTIMEZONE
END:VCALENDAR