BEGIN:VCALENDAR
VERSION:2.0
PRODID:-//wp-events-plugin.com//7.2.3.1//EN
BEGIN:VEVENT
UID:7@thomaslaffont.fr
DTSTART;TZID=Europe/Paris:20150711T210000
DTEND;TZID=Europe/Paris:20150711T233000
DTSTAMP:20150531T162921Z
URL:https://thomaslaffont.fr/events/hot-wax/
SUMMARY:Hot Wax
DESCRIPTION:Remplacement du bassiste du groupe Hot Wax
LOCATION:Camping "Riviera d'Azur"\, 189 Allée des Petits Châteaux de Vill
 epey\,  Saint-Aygulf\, France
GEO:43.4085838;6.707223399999975
X-APPLE-STRUCTURED-LOCATION;VALUE=URI;X-ADDRESS=189 Allée des Petits Chât
 eaux de Villepey\,  Saint-Aygulf\, France;X-APPLE-RADIUS=100;X-TITLE=Campi
 ng \"Riviera d'Azur\":geo:43.4085838,6.707223399999975
END:VEVENT
BEGIN:VTIMEZONE
TZID:Europe/Paris
X-LIC-LOCATION:Europe/Paris
BEGIN:DAYLIGHT
DTSTART:20150329T030000
TZOFFSETFROM:+0100
TZOFFSETTO:+0200
TZNAME:CEST
END:DAYLIGHT
END:VTIMEZONE
END:VCALENDAR