BEGIN:VCALENDAR
VERSION:2.0
PRODID:-//wp-events-plugin.com//7.2.3.1//EN
BEGIN:VEVENT
UID:56@thomaslaffont.fr
DTSTART;TZID=Europe/Paris:20180330T200000
DTEND;TZID=Europe/Paris:20180330T223000
DTSTAMP:20180310T125040Z
URL:https://thomaslaffont.fr/events/free-suns-festival-mois-jazz/
SUMMARY:Free Suns - Festival « Mois du Jazz »
DESCRIPTION:FREE SUNS\nIl y a des rencontres qui sont instantanées et magi
 ques. C’est le cas de ces 4 musiciens qui se sont retrouvés lors d’un
 e Jam Session. Il a suffi de cet instant pour que le groupe «&nbsp\;Free 
 Suns&nbsp\;» naisse.\nDepuis\, ils organisent une Jam Session mensuelleme
 nt au «&nbsp\;Jam&nbsp\;»\, lieu culte du jazz à Marseille\, et ils fin
 alisent la sortie de leur premier EP.\nLa fusion et l’énergie qui se d
 égage de ce quartet est multiple dû à la diversité de ces personnalit
 és. Entre de douces mélodies subtilement re-arrangées pour rentrer dans
  une profonde sensibilité\, et une énergie beaucoup plus sauvage\, brute
 \, plus Rock\, «&nbsp\;Free Suns&nbsp\;» revisite les standards de la mu
 sique actuelle pour créer des versions très personnelles et originales. 
 La culture du jazz est omniprésente dans ce projet qui n’hésite pas à
  s’inspirer également de toutes les influences qui l’entoure\, afin d
 ’emmener chaque morceau vers une relecture\, une re-interprétation proc
 he d’une re-création.\nL’énergie qui nourrit ce groupe est très com
 municative\, il existe une vraie interaction avec le public qui en ressort
  ravie\, nourrit\, tel un soleil qui s’éveille.\n\nArthur Billès :&nbs
 p\;Batterie\nJonathan&nbsp\;Soucasse :&nbsp\;Piano\nCyril Péron :&nbsp\;G
 uitare\nThomas Laffont :&nbsp\;Basse\n\nRéservez vos places !\n\nhttps://
 soundcloud.com/user-800023179/teaser-free-suns
LOCATION:Théâtre du Têtard\, 33 rue Ferrari\, Marseille\, 13005\, France
GEO:43.2938984;5.388570200000004
X-APPLE-STRUCTURED-LOCATION;VALUE=URI;X-ADDRESS=33 rue Ferrari\, Marseille\
 , 13005\, France;X-APPLE-RADIUS=100;X-TITLE=Théâtre du Têtard:geo:43.29
 38984,5.388570200000004
END:VEVENT
BEGIN:VTIMEZONE
TZID:Europe/Paris
X-LIC-LOCATION:Europe/Paris
BEGIN:DAYLIGHT
DTSTART:20180325T030000
TZOFFSETFROM:+0100
TZOFFSETTO:+0200
TZNAME:CEST
END:DAYLIGHT
END:VTIMEZONE
END:VCALENDAR