BEGIN:VCALENDAR
VERSION:2.0
PRODID:-//wp-events-plugin.com//7.2.3.1//EN
BEGIN:VEVENT
UID:37@thomaslaffont.fr
DTSTART;TZID=Europe/Paris:20170706T203000
DTEND;TZID=Europe/Paris:20170706T233000
DTSTAMP:20170626T150439Z
URL:https://thomaslaffont.fr/events/family-jam/
SUMMARY:Family Jam - Cloture de la saison 2016 - 2017
DESCRIPTION:Concert de cloture de la saison 2016-2017.\n\nPLUS DE 20 MUSICI
 ENS DE LA FAMILLE JAM SERONT SUR SCENE !!!\n\nON VOUS ATTEND NOMBREUX POUR
  CONCLURE CETTE MERVEILLEUSE SAISON 2016-2017\, FAIRE UNE GRANDE FÊTE TOU
 S ENSEMBLE ...\n\nLa PAF de la soirée sera portée au soutien a l'associa
 tion Le JAM\, pour participer aux travaux d'été (Isolation phonique / Cl
 imatisation ... )\n\nEvènement facebook : Family Jam\n\n*****************
 *************************************************************\nLE JAM - 42
  rue des Trois Rois 13006 Marseille (La Plaine)\nPAF : 10€ + 3€ d'adh
 ésion à l'association.\nRéservations par SMS au : 06 09 53 40 41 (Henri
 )\nConcert à 20h00 / Ouverture des portes à 19h30.\nAssiettes et boisson
 s sur place.\nMétro Notre-Dame-Du-Mont / Parking Jean Jaurès\n**********
 *******************************************************************
LOCATION:Le JAM\, 42 rue des trois rois\, MARSEILLE\, 13004\, France
GEO:43.2943039;5.3849361000000044
X-APPLE-STRUCTURED-LOCATION;VALUE=URI;X-ADDRESS=42 rue des trois rois\, MAR
 SEILLE\, 13004\, France;X-APPLE-RADIUS=100;X-TITLE=Le JAM:geo:43.2943039,5
 .3849361000000044
END:VEVENT
BEGIN:VTIMEZONE
TZID:Europe/Paris
X-LIC-LOCATION:Europe/Paris
BEGIN:DAYLIGHT
DTSTART:20170326T030000
TZOFFSETFROM:+0100
TZOFFSETTO:+0200
TZNAME:CEST
END:DAYLIGHT
END:VTIMEZONE
END:VCALENDAR