BEGIN:VCALENDAR
VERSION:2.0
PRODID:-//wp-events-plugin.com//7.2.3.1//EN
BEGIN:VEVENT
UID:63@thomaslaffont.fr
DTSTART;TZID=Europe/Paris:20190222T193000
DTEND;TZID=Europe/Paris:20190222T230000
DTSTAMP:20190118T142503Z
URL:https://thomaslaffont.fr/events/concert-thomas-laffont-group/
SUMMARY:Concert - Thomas Laffont Group
DESCRIPTION:Le Thomas Laffont Group sera en concert le 22 février 2019&nbs
 p\; à la gare de Coustelet en co-plateau avec Yon Solo.\n\nCe sera l'occa
 sion de présenter notre premier album "The House By The Sea".\nEvènement
  facebook.\n\nJules Lapébie :&nbsp\;Guitare\nCyril Benhamou : Claviers\nT
 homas Laffont : Basse / Composition\nArthur Billès : Batterie\n\nInvité 
 : MC Sirop\n\nPrix libre.\n\nhttps://www.youtube.com/watch?v=zLzSpLUnV-Q
LOCATION:La Gare\, 105 quai des entreprises.  Coustellet\, Maubec\, 84660\,
  France
X-APPLE-STRUCTURED-LOCATION;VALUE=URI;X-ADDRESS=105 quai des entreprises.  
 Coustellet\, Maubec\, 84660\, France;X-APPLE-RADIUS=100;X-TITLE=La Gare:ge
 o:0,0
END:VEVENT
BEGIN:VTIMEZONE
TZID:Europe/Paris
X-LIC-LOCATION:Europe/Paris
BEGIN:STANDARD
DTSTART:20181028T020000
TZOFFSETFROM:+0200
TZOFFSETTO:+0100
TZNAME:CET
END:STANDARD
END:VTIMEZONE
END:VCALENDAR