BEGIN:VCALENDAR
VERSION:2.0
PRODID:-//wp-events-plugin.com//7.2.3.1//EN
BEGIN:VEVENT
UID:74@thomaslaffont.fr
DTSTART;TZID=Europe/Paris:20191108T203000
DTEND;TZID=Europe/Paris:20191108T230000
DTSTAMP:20190907T092220Z
URL:https://thomaslaffont.fr/events/concert-saamara-project/
SUMMARY:Concert - Saamara Project
DESCRIPTION:Le Saämara Project sera en concert au JAM (Marseille) le 8 Nov
 embre 2019 à 20h30.\n\nCe sera l'occasion de découvrir ce nouveau projet
 .\n\nhttps://www.youtube.com/watch?v=Mly3pMau2-Y
LOCATION:Le JAM\, 42 rue des trois rois\, MARSEILLE\, 13004\, France
GEO:43.2943039;5.3849361000000044
X-APPLE-STRUCTURED-LOCATION;VALUE=URI;X-ADDRESS=42 rue des trois rois\, MAR
 SEILLE\, 13004\, France;X-APPLE-RADIUS=100;X-TITLE=Le JAM:geo:43.2943039,5
 .3849361000000044
END:VEVENT
BEGIN:VTIMEZONE
TZID:Europe/Paris
X-LIC-LOCATION:Europe/Paris
BEGIN:STANDARD
DTSTART:20191027T020000
TZOFFSETFROM:+0200
TZOFFSETTO:+0100
TZNAME:CET
END:STANDARD
END:VTIMEZONE
END:VCALENDAR