BEGIN:VCALENDAR
VERSION:2.0
PRODID:-//wp-events-plugin.com//7.2.3.1//EN
BEGIN:VEVENT
UID:14@thomaslaffont.fr
DTSTART;TZID=Europe/Paris:20150825T210000
DTEND;TZID=Europe/Paris:20150825T233000
DTSTAMP:20150827T104436Z
URL:https://thomaslaffont.fr/events/a-marseille-un-soir/
SUMMARY:A Marseille un soir
DESCRIPTION:Comédie musicale A Marseille un soir : www.amarseilleunsoir.f
 r
LOCATION:Château de la Buzine\, Chateau de la Buzine\, Marseille\, France
GEO:43.29533900000001;5.502449899999988
X-APPLE-STRUCTURED-LOCATION;VALUE=URI;X-ADDRESS=Chateau de la Buzine\, Mars
 eille\, France;X-APPLE-RADIUS=100;X-TITLE=Château de la Buzine:geo:43.295
 33900000001,5.502449899999988
END:VEVENT
BEGIN:VTIMEZONE
TZID:Europe/Paris
X-LIC-LOCATION:Europe/Paris
BEGIN:DAYLIGHT
DTSTART:20150329T030000
TZOFFSETFROM:+0100
TZOFFSETTO:+0200
TZNAME:CEST
END:DAYLIGHT
END:VTIMEZONE
END:VCALENDAR