BEGIN:VCALENDAR
VERSION:2.0
PRODID:-//wp-events-plugin.com//7.2.3.1//EN
BEGIN:VEVENT
UID:16@thomaslaffont.fr
DTSTART;TZID=Europe/Paris:20160124T140000
DTEND;TZID=Europe/Paris:20160124T160000
DTSTAMP:20160119T151303Z
URL:https://thomaslaffont.fr/events/a-marseille-un-soir-2/
SUMMARY:A Marseille un soir
DESCRIPTION:Comédie musicale A Marseille un soir : www.amarseilleunsoir.f
 r
LOCATION:Saint Maximin la Sainte Baume\, 9 Boulevard Jean Jaurès\, Saint M
 aximin la Sainte Baume\, France
GEO:43.4523817;5.860490600000048
X-APPLE-STRUCTURED-LOCATION;VALUE=URI;X-ADDRESS=9 Boulevard Jean Jaurès\, 
 Saint Maximin la Sainte Baume\, France;X-APPLE-RADIUS=100;X-TITLE=Saint Ma
 ximin la Sainte Baume:geo:43.4523817,5.860490600000048
END:VEVENT
BEGIN:VTIMEZONE
TZID:Europe/Paris
X-LIC-LOCATION:Europe/Paris
BEGIN:STANDARD
DTSTART:20151025T020000
TZOFFSETFROM:+0200
TZOFFSETTO:+0100
TZNAME:CET
END:STANDARD
END:VTIMEZONE
END:VCALENDAR